Workbook

Sheet Sheet1
B1: 나．상 품（시상품 포함) 지급 및 개인점수 부여
B2: １）３팀 이하：１위만 시상(점수없음)
B3: ２）４팀 이상~8팀까지：１, 2위만 점수 및 시상
B4: ３）9팀 이상：１,２위, 공동３위 점수 및 시상
A6: 해운대구 | B6: 남자 복식 20대 C | C6: 0.5 | D6: 남자 복식 30대 A | E6: 0.5 | F6: 남자 복식 20대 C | G6: 0.5 | I6: 순위 | J6: 구군 | K6: 점수
A7: 해운대구 | B7: 남자 복식 30대 A | C7: 0.5 | D7: 남자 복식 40대 A | E7: 0.5 | F7: 남자 복식 30대 A | G7: 0.5 | I7: 1 | J7: 해운대구 | K7: =D33 -> 11220
A8: 해운대구 | B8: 남자 복식 45대 C | C8: 1 | D8: 남자 복식 45대 A | E8: 1 | F8: 남자 복식 30대 B | G8: 0.5 | I8: 2 | J8: 동래구 | K8: =D61 -> 11170
A9: 해운대구 | B9: 남자 복식 50대 A | C9: 0.5 | D9: 남자 복식 50대 A | E9: 1 | F9: 남자 복식 30대 D | G9: 0.5 | I9: 3 | J9: 사하구 | K9: =D150 -> 8610
A10: 해운대구 | B10: 남자 복식 60대 C | C10: 0.5 | D10: 남자 복식 60대 A | E10: 1 | F10: 남자 복식 45대 A | G10: 1 | I10: 4 | J10: 북구 | K10: =D246 -> 8450
A11: 해운대구 | B11: 남자 복식 60대 D | C11: 1 | D11: 남자 복식 60대 B | E11: 1 | F11: 남자 복식 50대 C | G11: 1 | I11: 5 | J11: 부산진구 | K11: =D123 -> 8230
A12: 해운대구 | B12: 여자 복식 40대 C | C12: 0.5 | D12: 여자 복식 40대 C | E12: 1 | F12: 남자 복식 50대 D | G12: 1 | I12: 6 | J12: 기장군 | K12: =D211 -> 7830
A13: 해운대구 | B13: 여자 복식 45대 A | C13: 1 | D13: 여자 복식 50대 B | E13: 1 | F13: 남자 복식 55대 D | G13: 1 | I13: 7 | J13: 남구 | K13: =D81 -> 6770
A14: 해운대구 | B14: 여자 복식 45대 C | C14: 1 | D14: 여자 복식 55대 A | E14: 0.5 | F14: 남자 복식 60대 A | G14: 1 | I14: 8 | J14: 연제구 | K14: =D188 -> 6200
A15: 해운대구 | B15: 여자 복식 55대 C | C15: 0.5 | D15: 혼합 복식 40대 B | E15: 1 | F15: 남자 복식 60대 B | G15: 0.5 | I15: 9 | J15: 사상구 | K15: =D101 -> 5940
A16: 해운대구 | B16: 혼합 복식 30대 C | C16: 0.5 | D16: 혼합 복식 40대 C | E16: 0.5 | F16: 남자 복식 60대 D | G16: 1 | I16: 10 | J16: 강서구 | K16: =D168 -> 4760
A17: 해운대구 | B17: 혼합 복식 40대 A | C17: 0.5 | F17: 여자 복식 30대 D | G17: 0.5 | I17: 11 | J17: 동구 | K17: =D287 -> 3710
A18: 해운대구 | B18: 혼합 복식 45대 A | C18: 1 | F18: 여자 복식 40대 D | G18: 0.5 | I18: 12 | J18: 금정구 | K18: =D226 -> 3550
A19: 해운대구 | B19: 혼합 복식 45대 C | C19: 1 | F19: 여자 복식 45대 A | G19: 1 | I19: 13 | J19: 수영구 | K19: =D260 -> 3340
A20: 해운대구 | B20: 혼합 복식 50대 A | C20: 1 | F20: 여자 복식 50대 A | G20: 1 | I20: 14 | J20: 영도구 | K20: =D272 -> 2150
A21: 해운대구 | F21: 여자 복식 50대 A | G21: 1 | I21: 15 | J21: 서구 | K21: =D297 -> 1640
A22: 해운대구 | F22: 여자 복식 55대 C | G22: 0.5 | I22: 16 | J22: 중구 | K22: =D305 -> 900
A23: 해운대구 | F23: 혼합 복식 30대 C | G23: 1
A24: 해운대구 | F24: 혼합 복식 30대 D | G24: 1
A25: 해운대구 | F25: 혼합 복식 45대 A | G25: 1
A26: 해운대구 | F26: 혼합 복식 45대 B | G26: 0.5
A27: 해운대구 | F27: 혼합 복식 45대 C | G27: 0.5
A28: 해운대구 | F28: 혼합 복식 40대 D | G28: 1
A29: 합계 | B29: 1위 300 | C29: =SUM(C6:C28) -> 11 | D29: 2위 200 | E29: =SUM(E6:E28) -> 9 | F29: 3위 100 | G29: =SUM(G6:G28) -> 18
A30: 경기점수 | B30: 1위 | C30: =SUM(C29*300) -> 3300 | D30: 2위 | E30: =SUM(E29*200) -> 1800 | F30: 3위 | G30: =SUM(G29*100) -> 1800
A31: 경기점수합계 1-3위 | D31: =SUM(C30,E30,G30) -> 6900
A32: 출전팀/점수 | B32: 216 | C32: 20 | D32: =SUM(B32*C32) -> 4320
A33: 최종점수 | D33: =SUM(D31:D32) -> 11220
A36: 동래구 | B36: 남자 복식 20대 A | C36: 1 | D36: 남자 복식 20대 B | E36: 0.5 | F36: 남자 복식 20대 B | G36: 1
A37: 동래구 | B37: 남자 복식 30대 B | C37: 0.5 | D37: 남자 복식 20대 D | E37: 0.5 | F37: 남자 복식 20대 B | G37: 0.5
A38: 동래구 | B38: 남자 복식 30대 C | C38: 0.5 | D38: 남자 복식 30대 C | E38: 0.5 | F38: 남자 복식 20대 C | G38: 1
A39: 동래구 | B39: 남자 복식 30대 D | C39: 1 | D39: 남자 복식 45대 B | E39: 0.5 | F39: 남자 복식 40대 A | G39: 0.5
A40: 동래구 | B40: 남자 복식 40대 A | C40: 1 | D40: 남자 복식 50대 B | E40: 1 | F40: 남자 복식 40대 C | G40: 0.5
A41: 동래구 | B41: 남자 복식 40대 B | C41: 0.5 | D41: 남자 복식 50대 D | E41: 1 | F41: 남자 복식 45대 D | G41: 1
A42: 동래구 | B42: 남자 복식 40대 C | C42: 0.5 | D42: 남자 복식 50대 D | E42: 1 | F42: 여자 복식 30대 D | G42: 0.5
A43: 동래구 | B43: 남자 복식 40대 D | C43: 0.5 | D43: 남자 복식 55대 D | E43: 1 | F43: 여자 복식 45대 A | G43: 1
A44: 동래구 | B44: 남자 복식 45대 D | C44: 1 | D44: 여자 복식 20대 C | E44: 0.5 | F44: 여자 복식 45대 C | G44: 0.5
A45: 동래구 | B45: 남자 복식 50대 B | C45: 1 | D45: 여자 복식 30대 B | E45: 0.5 | F45: 여자 복식 45대 C | G45: 0.5
A46: 동래구 | B46: 남자 복식 60대 A | C46: 1 | D46: 혼합 복식 20대 C | E46: 0.5 | F46: 여자 복식 50대 C | G46: 0.5
A47: 동래구 | B47: 여자 복식 20대 A | C47: 0.5 | D47: 혼합 복식 40대 A | E47: 1 | F47: 혼합 복식 30대 D | G47: 0.5
... A49: 동래구 | B49: 여자 복식 55대 C | C49: 0.5 | D49: 혼합 복식 50대 B | E49: 0.5 | F49: 혼합 복식 40대 C | G49: 0.5
A50: 동래구 | B50: 여자 복식 60대 B | C50: 0.5 | F50: 혼합 복식 45대 C | G50: 0.5
A51: 동래구 | B51: 혼합 복식 30대 D | C51: 1 | F51: 혼합 복식 45대 D | G51: 1
A52: 동래구 | B52: 혼합 복식 45대 B | C52: 0.5 | F52: 혼합 복식 50대 B | G52: 1
A53: 동래구 | B53: 혼합 복식 55대 A | C53: 0.5 | F53: 혼합 복식 50대 B | G53: 0.5
A54: 동래구 | F54: 혼합 복식 50대 C | G54: 0.5
A55: 동래구 | F55: 혼합 복식 60대 B | G55: 1
A56: 동래구 | F56: 혼합 복식 40대 D | G56: 1
A57: 합계 | B57: 1위 300 | C57: =SUM(C36:C56) -> 12.5 | D57: 2위 200 | E57: =SUM(E36:E56) -> 9.5 | F57: 3위 100 | G57: =SUM(G36:G56) -> 14.5
A58: 경기점수 | B58: 1위 | C58: =SUM(C57*300) -> 3750 | D58: 2위 | E58: =SUM(E57*200) -> 1900 | F58: 3위 | G58: =SUM(G57*100) -> 1450
A59: 경기점수합계 1-3위 | D59: =SUM(C58,E58,G58) -> 7100
A60: 출전팀/점수 | B60: 203.5 | C60: 20 | D60: =SUM(B60*C60) -> 4070
A61: 종합점수 | D61: =SUM(D59:D60) -> 11170
A64: 남구 | B64: 남자 복식 55대 A | C64: 1 | D64: 남자 복식 20대 D | E64: 0.5 | F64: 남자 복식 40대 A | G64: 0.5
A65: 남구 | B65: 여자 복식 20대 D | C65: 0.5 | D65: 남자 복식 40대 A | E65: 0.5 | F65: 남자 복식 45대 B | G65: 1
A66: 남구 | B66: 여자 복식 55대 B | C66: 1 | D66: 남자 복식 55대 A | E66: 1 | F66: 남자 복식 45대 D | G66: 1
A67: 남구 | B67: 여자 복식 55대 D | C67: 1 | D67: 남자 복식 65대 A | E67: 1 | F67: 남자 복식 50대 A | G67: 0.5
A68: 남구 | B68: 혼합 복식 20대 D | C68: 0.5 | D68: 여자 복식 20대 B | E68: 0.5 | F68: 남자 복식 50대 B | G68: 1
A69: 남구 | B69: 혼합 복식 60대 B | C69: 1 | D69: 여자 복식 45대 A | E69: 0.5 | F69: 남자 복식 60대 B | G69: 0.5
A70: 남구 | D70: 여자 복식 45대 D | E70: 1 | F70: 여자 복식 55대 C | G70: 0.5
A71: 남구 | D71: 여자 복식 50대 A | E71: 0.5 | F71: 혼합 복식 40대 C | G71: 0.5
A72: 남구 | D72: 여자 복식 60대 B | E72: 1 | F72: 혼합 복식 50대 A | G72: 0.5
A73: 남구 | F73: 혼합 복식 50대 D | G73: 0.5
A74: 남구 | F74: 혼합 복식 55대 B | G74: 1
A75: 남구 | F75: 혼합 복식 55대 C | G75: 0.5
A76: 남구
A77: 합계 | B77: 1위 300 | C77: =SUM(C64:C76) -> 5 | D77: 2위 200 | E77: =SUM(E64:E76) -> 6.5 | F77: 3위 100 | G77: =SUM(G64:G76) -> 8
A78: 경기점수 | B78: 1위 | C78: =SUM(C77*300) -> 1500 | D78: 2위 | E78: =SUM(E77*200) -> 1300 | F78: 3위 | G78: =SUM(G77*100) -> 800
A79: 경기점수합계 1-3위 | D79: =SUM(C78,E78,G78) -> 3600
A80: 출전팀/점수 | B80: 158.5 | C80: 20 | D80: =SUM(B80*C80) -> 3170
A81: 종합점수 | D81: =SUM(D79:D80) -> 6770
A84: 사상구 | B84: 남자 복식 50대 C | C84: 0.5 | D84: 남자 복식 20대 A | E84: 0.5 | F84: 남자 복식 50대 C | G84: 0.5
A85: 사상구 | B85: 남자 복식 60대 B | C85: 0.5 | D85: 남자 복식 20대 C | E85: 0.5 | F85: 여자 복식 20대 D | G85: 0.5
A86: 사상구 | B86: 여자 복식 20대 A | C86: 0.5 | D86: 남자 복식 30대 D | E86: 0.5 | F86: 여자 복식 40대 D | G86: 1
A87: 사상구 | B87: 여자 복식 30대 A | C87: 0.5 | D87: 남자 복식 60대 D | E87: 1 | F87: 혼합 복식 40대 B | G87: 0.5
A88: 사상구 | B88: 여자 복식 60대 A | C88: 1 | D88: 여자 복식 20대 A | E88: 0.5 | F88: 혼합 복식 55대 B | G88: 1
A89: 사상구 | B89: 혼합 복식 20대 A | C89: 0.5 | D89: 여자 복식 20대 C | E89: 0.5
A90: 사상구 | B90: 혼합 복식 40대 B | C90: 1 | D90: 여자 복식 45대 A | E90: 0.5
A91: 사상구 | B91: 혼합 복식 40대 C | C91: 0.5 | D91: 여자 복식 45대 C | E91: 0.5
A92: 사상구 | B92: 혼합 복식 40대 D | C92: 1 | D92: 여자 복식 60대 A | E92: 1
A93: 사상구 | D93: 혼합 복식 20대 A | E93: 1
A94: 사상구 | D94: 혼합 복식 55대 A | E94: 1
A95: 사상구 | D95: 혼합 복식 55대 C | E95: 0.5
A96: 사상구
A97: 합계 | B97: 1위 300 | C97: =SUM(C84:C96) -> 6 | D97: 2위 200 | E97: =SUM(E84:E96) -> 8 | F97: 3위 100 | G97: =SUM(G84:G96) -> 3.5
A98: 경기점수 | B98: 1위 | C98: =SUM(C97*300) -> 1800 | D98: 2위 | E98: =SUM(E97*200) -> 1600 | F98: 3위 | G98: =SUM(G97*100) -> 350
A99: 경기점수합계 1-3위 | D99: =SUM(C98,E98,G98) -> 3750
A100: 출전팀/점수 | B100: 109.5 | C100: 20 | D100: =SUM(B100*C100) -> 2190
A101: 종합점수 | D101: =SUM(D99:D100) -> 5940
A104: 부산진구 | B104: 남자 복식 20대 B | C104: 0.5 | D104: 남자 복식 30대 A | E104: 0.5 | F104: 남자 복식 20대 D | G104: 1
A105: 부산진구 | B105: 남자 복식 30대 B | C105: 0.5 | D105: 남자 복식 30대 D | E105: 0.5 | F105: 남자 복식 30대 D | G105: 1
A106: 부산진구 | B106: 남자 복식 55대 D | C106: 1 | D106: 남자 복식 50대 B | E106: 1 | F106: 남자 복식 30대 D | G106: 1
A107: 부산진구 | B107: 여자 복식 40대 C | C107: 0.5 | D107: 남자 복식 55대 B | E107: 1 | F107: 남자 복식 30대 D | G107: 1
A108: 부산진구 | B108: 여자 복식 50대 A | C108: 1 | D108: 남자 복식 55대 C | E108: 1 | F108: 남자 복식 40대 C | G108: 0.5
A109: 부산진구 | B109: 혼합 복식 30대 B | C109: 1 | D109: 여자 복식 40대 D | E109: 0.5 | F109: 남자 복식 45대 C | G109: 0.5
A110: 부산진구 | B110: 혼합 복식 55대 A | C110: 0.5 | D110: 여자 복식 45대 C | E110: 0.5 | F110: 남자 복식 50대 D | G110: 1
...

Sheet Sheet2
B1: ㅌ | F1: 오마이민턴 결과
A2: 순위 | F2: 순위 | G2: 구군 | H2: 총점 | J2: 팀수 | K2: 참가점수 | L2: 경기점수 | M2: 입상팀수
L3: 합계 | M3: 1위 | N3: 2위 | O3: 3위
A4: 1 | F4: 1 | G4: 동래구 | H4: 11770 | J4: 203.5 | K4: 4070 | L4: 7700 | M4: 14.5 | N4: 9.5 | O4: 14.5
A5: 2 | F5: 2 | G5: 해운대구 | H5: 11220 | J5: 216 | K5: 4320 | L5: 6900 | M5: 11 | N5: 9 | O5: 18
A6: 3 | F6: 3 | G6: 사하구 | H6: 8610 | J6: 155.5 | K6: 3110 | L6: 5500 | M6: 9 | N6: 6.5 | O6: 15
A7: 4 | F7: 4 | G7: 북구 | H7: 8450 | J7: 160 | K7: 3200 | L7: 5250 | M7: 7.5 | N7: 10 | O7: 10
A8: 5 | F8: 5 | G8: 부산진구 | H8: 8230 | J8: 161.5 | K8: 3230 | L8: 5000 | M8: 7 | N8: 9.5 | O8: 10
A9: 6 | F9: 6 | G9: 기장군 | H9: 7830 | J9: 159 | K9: 3180 | L9: 4650 | M9: 7 | N9: 7 | O9: 11.5
A10: 7 | F10: 7 | G10: 남구 | H10: 6770 | J10: 158.5 | K10: 3170 | L10: 3600 | M10: 5 | N10: 6.5 | O10: 8
A11: 8 | F11: 8 | G11: 연제구 | H11: 6200 | J11: 97.5 | K11: 1950 | L11: 4250 | M11: 8.5 | N11: 4 | O11: 9
A12: 9 | F12: 9 | G12: 사상구 | H12: 5940 | J12: 109.5 | K12: 2190 | L12: 3750 | M12: 6 | N12: 8 | O12: 3.5
A13: 10 | F13: 10 | G13: 강서구 | H13: 4760 | J13: 115.5 | K13: 2310 | L13: 2450 | M13: 3 | N13: 4 | O13: 7.5
A14: 11 | F14: 11 | G14: 동구 | H14: 3710 | J14: 68 | K14: 1360 | L14: 2350 | M14: 3 | N14: 5 | O14: 4.5
A15: 12 | F15: 12 | G15: 금정구 | H15: 3600 | J15: 80 | K15: 1600 | L15: 2000 | M15: 2 | N15: 4.5 | O15: 5
... A19: 16 | F19: 16 | G19: 중구 | H19: 900 | J19: 20 | K19: 400 | L19: 500 | M19: 1 | N19: 0.5 | O19: 1
F22: 수기합계
F23: 순위 | G23: 구군 | H23: 총점 | J23: 팀수 | K23: 참가점수 | L23: 경기점수 | M23: 입상팀수
L24: 합계 | M24: 1위 | N24: 2위 | O24: 3위
G25: 해운대구 | H25: 11220 | J25: 203.5 | K25: =SUM(J25)*20 -> 4070 | L25: =Sheet1!D31 -> 6900 | M25: =Sheet1!C29 -> 11 | N25: =Sheet1!E29 -> 9 | O25: =Sheet1!G29 -> 18
G26: 동래구 | H26: 11170 | J26: 216 | K26: =SUM(J26)*20 -> 4320 | L26: =Sheet1!D59 -> 7100 | M26: =Sheet1!C57 -> 12.5 | N26: =Sheet1!E57 -> 9.5 | O26: =Sheet1!G57 -> 14.5
G27: 사하구 | H27: 8610 | J27: 155.5 | K27: =SUM(J27)*20 -> 3110 | L27: 5500 | M27: 9 | N27: 6.5 | O27: 15
G28: 북구 | H28: 8450 | J28: 160 | K28: =SUM(J28)*20 -> 3200 | L28: 5250 | M28: 7.5 | N28: 10 | O28: 10
G29: 부산진구 | H29: 8230 | J29: 161.5 | K29: =SUM(J29)*20 -> 3230 | L29: 5000 | M29: 7 | N29: 9.5 | O29: 10
G30: 기장군 | H30: 7830 | J30: 159 | K30: =SUM(J30)*20 -> 3180 | L30: 4650 | M30: 7 | N30: 7 | O30: 11.5
G31: 남구 | H31: 6770 | J31: 158.5 | K31: =SUM(J31)*20 -> 3170 | L31: 3600 | M31: 5 | N31: 6.5 | O31: 8
G32: 연제구 | H32: 6200 | J32: 97.5 | K32: =SUM(J32)*20 -> 1950 | L32: 4250 | M32: 8.5 | N32: 4 | O32: 9
G33: 사상구 | H33: 5940 | J33: 109.5 | K33: =SUM(J33)*20 -> 2190 | L33: 3750 | M33: 6 | N33: 8 | O33: 3.5
G34: 강서구 | H34: 4760 | J34: 115.5 | K34: =SUM(J34)*20 -> 2310 | L34: 2450 | M34: 3 | N34: 4 | O34: 7.5
G35: 동구 | H35: 3710 | J35: 68 | K35: =SUM(J35)*20 -> 1360 | L35: 2350 | M35: 3 | N35: 5 | O35: 4.5
G36: 금정구 | H36: 3600 | J36: 80 | K36: =SUM(J36)*20 -> 1600 | L36: 2000 | M36: 2 | N36: 4.5 | O36: 5
G37: 수영구 | H37: 3340 | J37: 57 | K37: =SUM(J37)*20 -> 1140 | L37: 2200 | M37: 4.5 | N37: 2.5 | O37: 3.5
G38: 영도구 | H38: 2150 | J38: 45 | K38: =SUM(J38)*20 -> 900 | L38: 1250 | M38: 1.5 | N38: 2.5 | O38: 3
... G40: 중구 | H40: 900 | J40: 20 | K40: =SUM(J40)*20 -> 400 | L40: 500 | M40: 1 | N40: 0.5 | O40: 1
